BEGIN:VCALENDAR
VERSION:2.0
PRODID:-//Bioton/web 1.0/EN
BEGIN:VEVENT
UID:5D5B1D95-0F6C-4504-A9C7-1269A2C32DA1
DTSTAMP;VALUE=DATE-TIME:20260419T120000
DTSTART;VALUE=DATE:20241108
DTEND;VALUE=DATE:20241109
SUMMARY:BIOTON: Skonsolidowany rozszerzony raport kwartalny za I (...)
DESCRIPTION:Skonsolidowany rozszerzony raport kwartalny za III kwartal 2024 r. | bioton.com
END:VEVENT
END:VCALENDAR